BEGIN:VCALENDAR
PRODID:-//Microsoft Corporation//Outlook 16.0 MIMEDIR//EN
VERSION:2.0
METHOD:REQUEST
X-MS-OLK-FORCEINSPECTOROPEN:TRUE
BEGIN:VTIMEZONE
TZID:W. Europe Standard Time
BEGIN:STANDARD
DTSTART:16011028T030000
RRULE:FREQ=YEARLY;BYDAY=-1SU;BYMONTH=10
TZOFFSETFROM:+0200
TZOFFSETTO:+0100
END:STANDARD
BEGIN:DAYLIGHT
DTSTART:16010325T020000
RRULE:FREQ=YEARLY;BYDAY=-1SU;BYMONTH=3
TZOFFSETFROM:+0100
TZOFFSETTO:+0200
END:DAYLIGHT
END:VTIMEZONE
BEGIN:VEVENT
ATTENDEE;CN="Thomas Lanfermann";RSVP=TRUE:mailto:lanfermannthomas66@gmail.c
	om
ATTENDEE;CN="Philipp Nolte";RSVP=TRUE:mailto:philipp.nolte@insurlab-germany
	.com
ATTENDEE;CN="Ilka Lütz-Walzog";ROLE=OPT-PARTICIPANT;RSVP=TRUE:mailto:Ilka.
	Luetz-Walzog@insurlab-germany.com
ATTENDEE;CN="Lilli Feline Sprung";ROLE=OPT-PARTICIPANT;RSVP=TRUE:mailto:lil
	li.sprung@insurlab-germany.com
ATTENDEE;CN="Robert Richstein";ROLE=OPT-PARTICIPANT;RSVP=TRUE:mailto:robert
	.richstein@insurlab-germany.com
ATTENDEE;CN="Eileen Wilhelmstrop";ROLE=OPT-PARTICIPANT;RSVP=TRUE:mailto:Eil
	een.Wilhelmstrop@insurlab-germany.com
ATTENDEE;CN="Leila Maria Kehl";ROLE=OPT-PARTICIPANT;RSVP=TRUE:mailto:leila.
	kehl@insurlab-germany.com
ATTENDEE;CN="Anna Mayer";ROLE=OPT-PARTICIPANT;RSVP=TRUE:mailto:anna.mayer@i
	nsurlab-germany.com
ATTENDEE;CN="Yasmin Jafari";ROLE=OPT-PARTICIPANT;RSVP=TRUE:mailto:yasmin.ja
	fari@insurlab-germany.com
ATTENDEE;CN="Jana Annika Möller";ROLE=OPT-PARTICIPANT;RSVP=TRUE:mailto:jan
	a.moeller@insurlab-germany.com
CLASS:PUBLIC
CREATED:20260420T122655Z
DESCRIPTION: \n\n
DTEND;TZID="W. Europe Standard Time":20260609T170000
DTSTAMP:20260420T122624Z
DTSTART;TZID="W. Europe Standard Time":20260609T110000
LAST-MODIFIED:20260420T122655Z
LOCATION:InsurLab Germany\, Hohenzollernring 85-87\, 50672 Köln
ORGANIZER;CN="Thomas  Kuckelkorn":mailto:thomas.kuckelkorn@insurlab-germany
	.com
PRIORITY:5
SEQUENCE:0
SUMMARY;LANGUAGE=de:Rethink Wohngebäudeversicherung
TRANSP:OPAQUE
UID:040000008200E00074C5B7101A82E0080000000090CEE378D1D0DC01000000000000000
	0100000009EF7213ABA89994DB40D51BB17275CF0
X-ALT-DESC;FMTTYPE=text/html:\n<html xmlns:v="urn:schemas-microsoft-com:vml
	" xmlns:o="urn:schemas-microsoft-com:office:office" xmlns:w="urn:schemas-m
	icrosoft-com:office:word" xmlns:m="http://schemas.microsoft.com/office/200
	4/12/omml" xmlns="http://www.w3.org/TR/REC-html40"><head><meta name=Genera
	tor content="Microsoft Word 15 (filtered medium)"><style><!--\n/* Font Def
	initions */\n@font-face\n	{font-family:"Cambria Math"\;\n	panose-1:2 4 5 3
	 5 4 6 3 2 4\;}\n@font-face\n	{font-family:Aptos\;}\n@font-face\n	{font-fa
	mily:"Segoe UI"\;\n	panose-1:2 11 5 2 4 2 4 2 2 3\;}\n/* Style Definitions
	 */\np.MsoNormal\, li.MsoNormal\, div.MsoNormal\n	{margin:0cm\;\n	font-siz
	e:11.0pt\;\n	font-family:"Aptos"\,sans-serif\;\n	mso-ligatures:standardcon
	textual\;\n	mso-fareast-language:EN-US\;}\nspan.E-MailFormatvorlage17\n	{m
	so-style-type:personal-compose\;\n	font-family:"Segoe UI"\,sans-serif\;\n	
	color:windowtext\;}\n.MsoChpDefault\n	{mso-style-type:export-only\;\n	font
	-size:11.0pt\;\n	mso-fareast-language:EN-US\;}\n@page WordSection1\n	{size
	:612.0pt 792.0pt\;\n	margin:70.85pt 70.85pt 2.0cm 70.85pt\;}\ndiv.WordSect
	ion1\n	{page:WordSection1\;}\n--></style><!--[if gte mso 9]><xml>\n<o:shap
	edefaults v:ext="edit" spidmax="1026" />\n</xml><![endif]--><!--[if gte ms
	o 9]><xml>\n<o:shapelayout v:ext="edit">\n<o:idmap v:ext="edit" data="1" /
	>\n</o:shapelayout></xml><![endif]--></head><body lang=DE link="#467886" v
	link="#96607D" style='word-wrap:break-word'><div class=WordSection1><p cla
	ss=MsoNormal><span style='font-size:10.0pt\;font-family:"Segoe UI"\,sans-s
	erif'><o:p>&nbsp\;</o:p></span></p></div></body></html>
X-MICROSOFT-CDO-BUSYSTATUS:BUSY
X-MICROSOFT-CDO-IMPORTANCE:1
X-MICROSOFT-DISALLOW-COUNTER:FALSE
X-MS-OLK-APPTSEQTIME:20260420T122624Z
X-MS-OLK-AUTOFILLLOCATION:FALSE
X-MS-OLK-CONFTYPE:0
BEGIN:VALARM
TRIGGER:-PT15M
ACTION:DISPLAY
DESCRIPTION:Reminder
END:VALARM
END:VEVENT
END:VCALENDAR
